BEGIN:VCALENDAR
VERSION:2.0
X-WR-CALNAME: Upcoming shows
PRODID:GIGPRESS 2.0 WORDPRESS PLUGIN
CALSCALE:GREGORIAN
X-WR-TIMEZONE:Etc/GMT
METHOD:PUBLISH
BEGIN:VTIMEZONE
TZID:GMT
BEGIN:STANDARD
DTSTART:20071028T010000
TZOFFSETTO:+0000
TZOFFSETFROM:+0000
END:STANDARD
END:VTIMEZONE
BEGIN:VEVENT
SUMMARY:Weldon Henson at Broken Spoke
DESCRIPTION:
LOCATION:Broken Spoke\, 3201 S Lamar Blvd\, Austin\, US
UID:20260421T201500Z-1349-weldon.henson@gmail.com
URL:http://weldonhenson.com/schedule/
DTSTART;VALUE=DATE-TIME;TZID=GMT:20260421T201500Z
DTEND;VALUE=DATE-TIME;TZID=GMT:20260421T201500Z
DTSTAMP:20260420T034909Z
END:VEVENT
BEGIN:VEVENT
SUMMARY:Weldon Henson at Broken Spoke
DESCRIPTION:
LOCATION:Broken Spoke\, 3201 S Lamar Blvd\, Austin\, US
UID:20260428T201500Z-1350-weldon.henson@gmail.com
URL:http://weldonhenson.com/schedule/
DTSTART;VALUE=DATE-TIME;TZID=GMT:20260428T201500Z
DTEND;VALUE=DATE-TIME;TZID=GMT:20260428T201500Z
DTSTAMP:20260420T034909Z
END:VEVENT
BEGIN:VEVENT
SUMMARY:Weldon Henson at Bo's Barn
DESCRIPTION:
LOCATION:Bo's Barn\, Temple\, US
UID:20260501T200000Z-1360-weldon.henson@gmail.com
URL:http://weldonhenson.com/schedule/
DTSTART;VALUE=DATE-TIME;TZID=GMT:20260501T200000Z
DTEND;VALUE=DATE-TIME;TZID=GMT:20260501T200000Z
DTSTAMP:20260420T034909Z
END:VEVENT
BEGIN:VEVENT
SUMMARY:Weldon Henson at Iron Wolf Distillery
DESCRIPTION:
LOCATION:Iron Wolf Distillery\, 101 Co Rd 409\, Spicewood\, US
UID:20260502T140000Z-1364-weldon.henson@gmail.com
URL:http://weldonhenson.com/schedule/
DTSTART;VALUE=DATE-TIME;TZID=GMT:20260502T140000Z
DTEND;VALUE=DATE-TIME;TZID=GMT:20260502T140000Z
DTSTAMP:20260420T034909Z
END:VEVENT
BEGIN:VEVENT
SUMMARY:Weldon Henson at Broken Spoke
DESCRIPTION:
LOCATION:Broken Spoke\, 3201 S Lamar Blvd\, Austin\, US
UID:20260505T201500Z-1351-weldon.henson@gmail.com
URL:http://weldonhenson.com/schedule/
DTSTART;VALUE=DATE-TIME;TZID=GMT:20260505T201500Z
DTEND;VALUE=DATE-TIME;TZID=GMT:20260505T201500Z
DTSTAMP:20260420T034909Z
END:VEVENT
BEGIN:VEVENT
SUMMARY:Weldon Henson at Luckenbach
DESCRIPTION:
LOCATION:Luckenbach\, Luckenbach\, US
UID:20260509T130000Z-1361-weldon.henson@gmail.com
URL:http://weldonhenson.com/schedule/
DTSTART;VALUE=DATE-TIME;TZID=GMT:20260509T130000Z
DTEND;VALUE=DATE-TIME;TZID=GMT:20260509T130000Z
DTSTAMP:20260420T034909Z
END:VEVENT
BEGIN:VEVENT
SUMMARY:Weldon Henson at Broken Spoke
DESCRIPTION:
LOCATION:Broken Spoke\, 3201 S Lamar Blvd\, Austin\, US
UID:20260512T201500Z-1352-weldon.henson@gmail.com
URL:http://weldonhenson.com/schedule/
DTSTART;VALUE=DATE-TIME;TZID=GMT:20260512T201500Z
DTEND;VALUE=DATE-TIME;TZID=GMT:20260512T201500Z
DTSTAMP:20260420T034909Z
END:VEVENT
BEGIN:VEVENT
SUMMARY:Weldon Henson at Pardner's Night Club
DESCRIPTION:
LOCATION:Pardner's Night Club\, 15615 TX-29\, Buchanan Dam\, US
UID:20260513T180000Z-1362-weldon.henson@gmail.com
URL:http://weldonhenson.com/schedule/
DTSTART;VALUE=DATE-TIME;TZID=GMT:20260513T180000Z
DTEND;VALUE=DATE-TIME;TZID=GMT:20260513T180000Z
DTSTAMP:20260420T034909Z
END:VEVENT
BEGIN:VEVENT
SUMMARY:Weldon Henson at Lil' Red's Longhorn Saloon
DESCRIPTION:
LOCATION:Lil' Red's Longhorn Saloon\, 121 W Exchange Ave\, Fort Worth\, US
UID:20260516T210000Z-1363-weldon.henson@gmail.com
URL:http://weldonhenson.com/schedule/
DTSTART;VALUE=DATE-TIME;TZID=GMT:20260516T210000Z
DTEND;VALUE=DATE-TIME;TZID=GMT:20260516T210000Z
DTSTAMP:20260420T034909Z
END:VEVENT
BEGIN:VEVENT
SUMMARY:Weldon Henson at Broken Spoke
DESCRIPTION:
LOCATION:Broken Spoke\, 3201 S Lamar Blvd\, Austin\, US
UID:20260519T201500Z-1353-weldon.henson@gmail.com
URL:http://weldonhenson.com/schedule/
DTSTART;VALUE=DATE-TIME;TZID=GMT:20260519T201500Z
DTEND;VALUE=DATE-TIME;TZID=GMT:20260519T201500Z
DTSTAMP:20260420T034909Z
END:VEVENT
BEGIN:VEVENT
SUMMARY:Weldon Henson at Broken Spoke
DESCRIPTION:
LOCATION:Broken Spoke\, 3201 S Lamar Blvd\, Austin\, US
UID:20260526T201500Z-1354-weldon.henson@gmail.com
URL:http://weldonhenson.com/schedule/
DTSTART;VALUE=DATE-TIME;TZID=GMT:20260526T201500Z
DTEND;VALUE=DATE-TIME;TZID=GMT:20260526T201500Z
DTSTAMP:20260420T034909Z
END:VEVENT
END:VCALENDAR